<p>BEGIN:VCALENDAR
VERSION:2.0
PRODID:-//II. R&aacute;k&oacute;czi Ferenc K&ouml;nyvt&aacute;r - ECPv6.15.18//NONSGML v1.0//EN
CALSCALE:GREGORIAN
METHOD:PUBLISH
X-WR-CALNAME:II. R&aacute;k&oacute;czi Ferenc K&ouml;nyvt&aacute;r
X-ORIGINAL-URL:https://www.rfmlib.hu/de
X-WR-CALDESC:Veranstaltungen f&uuml;r II. R&aacute;k&oacute;czi Ferenc K&ouml;nyvt&aacute;r
REFRESH-INTERVAL;VALUE=DURATION:PT1H
X-Robots-Tag:noindex
X-PUBLISHED-TTL:PT1H
BEGIN:VTIMEZONE
TZID:Europe/Budapest
BEGIN:DAYLIGHT
TZOFFSETFROM:+0100
TZOFFSETTO:+0200
TZNAME:CEST
DTSTART:20250330T010000
END:DAYLIGHT
BEGIN:STANDARD
TZOFFSETFROM:+0200
TZOFFSETTO:+0100
TZNAME:CET
DTSTART:20251026T010000
END:STANDARD
BEGIN:DAYLIGHT
TZOFFSETFROM:+0100
TZOFFSETTO:+0200
TZNAME:CEST
DTSTART:20260329T010000
END:DAYLIGHT
BEGIN:STANDARD
TZOFFSETFROM:+0200
TZOFFSETTO:+0100
TZNAME:CET
DTSTART:20261025T010000
END:STANDARD
BEGIN:DAYLIGHT
TZOFFSETFROM:+0100
TZOFFSETTO:+0200
TZNAME:CEST
DTSTART:20270328T010000
END:DAYLIGHT
BEGIN:STANDARD
TZOFFSETFROM:+0200
TZOFFSETTO:+0100
TZNAME:CET
DTSTART:20271031T010000
END:STANDARD
END:VTIMEZONE
BEGIN:VEVENT
DTSTART;TZID=Europe/Budapest:20260421T150000
DTEND;TZID=Europe/Budapest:20260421T160000
DTSTAMP:20260421T163228
CREATED:20260327T130016Z
LAST-MODIFIED:20260421T140007Z
UID:3587-1776783600-1776787200@www.rfmlib.hu
SUMMARY:T&aacute;rsasj&aacute;t&eacute;kkuck&oacute;
DESCRIPTION:[font=Palatino Linotype\, serif]T&aacute;rsasj&aacute;t&eacute;koz&oacute;s\, sz&iacute;nez?s\, mesehallgat&oacute;s d&eacute;lut&aacute;n gyerekeknek[/font]
URL:https://www.rfmlib.hu/de/event/tarsasjatekkucko-3/
LOCATION:Kaffka Margit K&ouml;nyvt&aacute;r\, Park u. 8.\, Miskolc\, 3529
CATEGORIES:Kultur&aacute;lis,Sz&oacute;rakoz&aacute;s
ATTACH;FMTTYPE=image/jpeg:https://www.rfmlib.hu/wp-content/uploads/2026/03/tarsasjatekkucko-2.jpg
ORGANIZER;CN="II. R%C3%A1k%C3%B3czi Ferenc K%C3%B6nyvt%C3%A1r (kaffka1962@rfmlib.hu)":MAILTO:kaffka1962@rfmlib.hu
END:VEVENT
BEGIN:VEVENT
DTSTART;TZID=Europe/Budapest:20260421T150000
DTEND;TZID=Europe/Budapest:20260421T160000
DTSTAMP:20260421T163228
CREATED:20260327T145640Z
LAST-MODIFIED:20260421T140007Z
UID:3669-1776783600-1776787200@www.rfmlib.hu
SUMMARY:Angol t&aacute;rsalg&aacute;si klub
DESCRIPTION:
URL:https://www.rfmlib.hu/de/event/angol-tarsalgasi-klub-3/
LOCATION:Szab&oacute; L?rinc Idegennyelvi K&ouml;nyvt&aacute;r\, Mindszent t&eacute;r 2. I.em.\, Miskolc\, 3530
CATEGORIES:Kultur&aacute;lis,Sz&oacute;rakoz&aacute;s
ATTACH;FMTTYPE=image/jpeg:https://www.rfmlib.hu/wp-content/uploads/2026/03/angol-tarsalgasi-klub-2.jpg
ORGANIZER;CN="II. R%C3%A1k%C3%B3czi Ferenc K%C3%B6nyvt%C3%A1r (szabolib@rfmlib.hu)":MAILTO:szabolib@rfmlib.hu
END:VEVENT
BEGIN:VEVENT
DTSTART;TZID=Europe/Budapest:20260421T160000
DTEND;TZID=Europe/Budapest:20260421T170000
DTSTAMP:20260421T163228
CREATED:20260326T134549Z
LAST-MODIFIED:20260421T140008Z
UID:3542-1776787200-1776790800@www.rfmlib.hu
SUMMARY:Akarat\, er?\, kitart&aacute;s
DESCRIPTION:Cs&aacute;br&aacute;gi Zsolt k&ouml;nyvbemutat&oacute;jaA szerz?vel Jakabn&eacute; Csizm&aacute;r &Aacute;gnes csoportvezet? k&ouml;nyvt&aacute;ros besz&eacute;lget
URL:https://www.rfmlib.hu/de/event/akarat-ero-kitartas/
LOCATION:J&oacute;zsef Attila K&ouml;nyvt&aacute;r\, Szentp&eacute;teri kapu 95.\, Miskolc\, 3526
CATEGORIES:Kultur&aacute;lis,Sz&oacute;rakoz&aacute;s
ATTACH;FMTTYPE=image/jpeg:https://www.rfmlib.hu/wp-content/uploads/2026/03/akarat-ero-kitartas.jpg
ORGANIZER;CN="II. R%C3%A1k%C3%B3czi Ferenc K%C3%B6nyvt%C3%A1r (jozsefkvt@rfmlib.hu)":MAILTO:jozsefkvt@rfmlib.hu
END:VEVENT
END:VCALENDAR</p>